BEGIN:VCALENDAR
VERSION:2.0
PRODID:-//Coddington and District Parish Council//Meeting Calendar//EN
CALSCALE:GREGORIAN
METHOD:PUBLISH
BEGIN:VEVENT
UID:70515-20220512@coddingtonanddistrict-pc.gov.uk
DTSTAMP:20260420T073839Z
DTSTART;VALUE=DATE:20220512
DTEND;VALUE=DATE:20220513
SUMMARY:Annual Parish Council &#8211\\; 12 May 2022
DESCRIPTION:Annual Parish Meeting\nView details: https://coddingtonanddistrict-pc.gov.uk/meetings/annual-parish-council-12-may-2022/
URL:https://coddingtonanddistrict-pc.gov.uk/meetings/annual-parish-council-12-may-2022/
END:VEVENT
END:VCALENDAR
