BEGIN:VCALENDAR
VERSION:2.0
PRODID:-//Coddington and District Parish Council//Meeting Calendar//EN
CALSCALE:GREGORIAN
METHOD:PUBLISH
BEGIN:VEVENT
UID:70505-20230518@coddingtonanddistrict-pc.gov.uk
DTSTAMP:20260420T073843Z
DTSTART;VALUE=DATE:20230518
DTEND;VALUE=DATE:20230519
SUMMARY:Annual Parish Meeting &#8211\\; 18 May 2023
DESCRIPTION:Annual Parish Meeting\nView details: https://coddingtonanddistrict-pc.gov.uk/meetings/annual-parish-meeting-18-may-2023/
URL:https://coddingtonanddistrict-pc.gov.uk/meetings/annual-parish-meeting-18-may-2023/
END:VEVENT
END:VCALENDAR
