BEGIN:VCALENDAR
VERSION:2.0
PRODID:-//Coddington and District Parish Council//Meeting Calendar//EN
CALSCALE:GREGORIAN
METHOD:PUBLISH
BEGIN:VEVENT
UID:70484-20250522@coddingtonanddistrict-pc.gov.uk
DTSTAMP:20260420T060800Z
DTSTART;VALUE=DATE:20250522
DTEND;VALUE=DATE:20250523
SUMMARY:Annual Parish Meeting &#8211\\; 22 May 2025
DESCRIPTION:Annual Parish Meeting\nView details: https://coddingtonanddistrict-pc.gov.uk/meetings/annual-parish-meeting-22-may-2025/
URL:https://coddingtonanddistrict-pc.gov.uk/meetings/annual-parish-meeting-22-may-2025/
END:VEVENT
END:VCALENDAR
