BEGIN:VCALENDAR
VERSION:2.0
PRODID:-//Coddington and District Parish Council//Meeting Calendar//EN
CALSCALE:GREGORIAN
METHOD:PUBLISH
BEGIN:VEVENT
UID:70471-20260219@coddingtonanddistrict-pc.gov.uk
DTSTAMP:20260420T131109Z
DTSTART;VALUE=DATE:20260219
DTEND;VALUE=DATE:20260220
SUMMARY:Full Council Meeting &#8211\\; 19 February 2026
DESCRIPTION:Full Council Meeting\nView details: https://coddingtonanddistrict-pc.gov.uk/meetings/full-council-meeting-19-february-2026/
URL:https://coddingtonanddistrict-pc.gov.uk/meetings/full-council-meeting-19-february-2026/
END:VEVENT
END:VCALENDAR
